BEGIN:VCALENDAR
VERSION:2.0
PRODID:-//wp-events-plugin.com//6.3//EN
TZID:Europe/Rome
X-WR-TIMEZONE:Europe/Rome
BEGIN:VEVENT
UID:0-17@ucsi.it
DTSTART;TZID=Europe/Rome:20260516T150000
DTEND;TZID=Europe/Rome:20260516T173000
DTSTAMP:20260423T192440Z
URL:https://www.ucsi.it/agenda/oltre-le-5w-5m-per-un-giornalismo-responsab
 ile-al-servizio-della-democrazia/
SUMMARY:Oltre le 5W...5M per un giornalismo responsabile al servizio della 
 democrazia
DESCRIPTION:Convegno Oltre le 5W...5M per un giornalismo responsabile al s
 ervizio della democrazia (leggi qui)
CATEGORIES:Eventi
END:VEVENT
BEGIN:VTIMEZONE
TZID:Europe/Rome
X-LIC-LOCATION:Europe/Rome
BEGIN:DAYLIGHT
DTSTART:20260329T030000
TZOFFSETFROM:+0100
TZOFFSETTO:+0200
TZNAME:CEST
END:DAYLIGHT
END:VTIMEZONE
END:VCALENDAR